BEGIN:VCALENDAR
VERSION:2.0
PRODID:-//Résidence Bellevue - ECPv6.8.2.1//NONSGML v1.0//EN
CALSCALE:GREGORIAN
METHOD:PUBLISH
X-WR-CALNAME:Résidence Bellevue
X-ORIGINAL-URL:https://residence-bellevue.fr
X-WR-CALDESC:Évènements pour Résidence Bellevue
REFRESH-INTERVAL;VALUE=DURATION:PT1H
X-Robots-Tag:noindex
X-PUBLISHED-TTL:PT1H
BEGIN:VTIMEZONE
TZID:Europe/Paris
BEGIN:DAYLIGHT
TZOFFSETFROM:+0100
TZOFFSETTO:+0200
TZNAME:CEST
DTSTART:20260329T010000
END:DAYLIGHT
BEGIN:STANDARD
TZOFFSETFROM:+0200
TZOFFSETTO:+0100
TZNAME:CET
DTSTART:20261025T010000
END:STANDARD
END:VTIMEZONE
BEGIN:VEVENT
DTSTART;VALUE=DATE:20260421
DTEND;VALUE=DATE:20260423
DTSTAMP:20260421T015733
CREATED:20260415T130511Z
LAST-MODIFIED:20260415T130511Z
UID:1922-1776729600-1776902399@residence-bellevue.fr
SUMMARY:Braderie de printemps 2026
DESCRIPTION:
URL:https://residence-bellevue.fr/event/braderie-de-printemps-2026/
LOCATION:Résidence Bellevue\, Hermenault\, 85570
ATTACH;FMTTYPE=image/png:https://residence-bellevue.fr/wp-content/uploads/2026/04/Post-Instagram-Evenement-Braderie-dete-Commerce-Shopping-Moderne.png
END:VEVENT
END:VCALENDAR