BEGIN:VCALENDAR
VERSION:2.0
PRODID:-//Résidence Bellevue - ECPv6.8.2.1//NONSGML v1.0//EN
CALSCALE:GREGORIAN
METHOD:PUBLISH
X-ORIGINAL-URL:https://residence-bellevue.fr
X-WR-CALDESC:Évènements pour Résidence Bellevue
REFRESH-INTERVAL;VALUE=DURATION:PT1H
X-Robots-Tag:noindex
X-PUBLISHED-TTL:PT1H
BEGIN:VTIMEZONE
TZID:Europe/Paris
BEGIN:DAYLIGHT
TZOFFSETFROM:+0100
TZOFFSETTO:+0200
TZNAME:CEST
DTSTART:20230326T010000
END:DAYLIGHT
BEGIN:STANDARD
TZOFFSETFROM:+0200
TZOFFSETTO:+0100
TZNAME:CET
DTSTART:20231029T010000
END:STANDARD
BEGIN:DAYLIGHT
TZOFFSETFROM:+0100
TZOFFSETTO:+0200
TZNAME:CEST
DTSTART:20240331T010000
END:DAYLIGHT
BEGIN:STANDARD
TZOFFSETFROM:+0200
TZOFFSETTO:+0100
TZNAME:CET
DTSTART:20241027T010000
END:STANDARD
BEGIN:DAYLIGHT
TZOFFSETFROM:+0100
TZOFFSETTO:+0200
TZNAME:CEST
DTSTART:20250330T010000
END:DAYLIGHT
BEGIN:STANDARD
TZOFFSETFROM:+0200
TZOFFSETTO:+0100
TZNAME:CET
DTSTART:20251026T010000
END:STANDARD
BEGIN:DAYLIGHT
TZOFFSETFROM:+0100
TZOFFSETTO:+0200
TZNAME:CEST
DTSTART:20260329T010000
END:DAYLIGHT
BEGIN:STANDARD
TZOFFSETFROM:+0200
TZOFFSETTO:+0100
TZNAME:CET
DTSTART:20261025T010000
END:STANDARD
END:VTIMEZONE
BEGIN:VEVENT
DTSTART;VALUE=DATE:20260421
DTEND;VALUE=DATE:20260423
DTSTAMP:20260424T154135
CREATED:20260415T130511Z
LAST-MODIFIED:20260415T130511Z
UID:1922-1776729600-1776902399@residence-bellevue.fr
SUMMARY:Braderie de printemps 2026
DESCRIPTION:
URL:https://residence-bellevue.fr/event/braderie-de-printemps-2026/
LOCATION:Résidence Bellevue\, Hermenault\, 85570
ATTACH;FMTTYPE=image/png:https://residence-bellevue.fr/wp-content/uploads/2026/04/Post-Instagram-Evenement-Braderie-dete-Commerce-Shopping-Moderne.png
END:VEVENT
BEGIN:VEVENT
DTSTART;VALUE=DATE:20250907
DTEND;VALUE=DATE:20250908
DTSTAMP:20260424T154135
CREATED:20250711T093307Z
LAST-MODIFIED:20250711T093307Z
UID:1585-1757203200-1757289599@residence-bellevue.fr
SUMMARY:Foire à l'Ancienne
DESCRIPTION:Comme tous les ans\, nous tiendrons un stand à la Foire à l’ancienne de L’Hermenault de 10h à 17h. Nous vendrons toutes les œuvres des résidents effectué dans l’année\, au profit de l’Amicale des pensionnaires\, l’association de la résidence qui permet de rendre accessible les activités à tous les résidents. L’année précédente elle a pu financer une sortie au bowling\, des séances de cinéma\, une sortie au théâtre\, une sortie au Manoir\, … \nVenez nombreux nous soutenir !!
URL:https://residence-bellevue.fr/event/foire-a-lancienne/
LOCATION:Mairie de l’Hermenault\, 13 rue de la Gazellerie\, l'Hermenault\, France
END:VEVENT
BEGIN:VEVENT
DTSTART;TZID=Europe/Paris:20250903T150000
DTEND;TZID=Europe/Paris:20250903T170000
DTSTAMP:20260424T154135
CREATED:20250723T090230Z
LAST-MODIFIED:20250723T090230Z
UID:1593-1756911600-1756918800@residence-bellevue.fr
SUMMARY:Conseil de la Vie Sociale
DESCRIPTION:
URL:https://residence-bellevue.fr/event/conseil-de-la-vie-sociale-2/
LOCATION:Résidence Bellevue\, Hermenault\, 85570
END:VEVENT
BEGIN:VEVENT
DTSTART;VALUE=DATE:20250425
DTEND;VALUE=DATE:20250426
DTSTAMP:20260424T154135
CREATED:20250411T101931Z
LAST-MODIFIED:20250411T101931Z
UID:1473-1745539200-1745625599@residence-bellevue.fr
SUMMARY:Braderie de la résidence
DESCRIPTION:
URL:https://residence-bellevue.fr/event/braderie-de-la-residence/
END:VEVENT
BEGIN:VEVENT
DTSTART;TZID=Europe/Paris:20241108T140000
DTEND;TZID=Europe/Paris:20241108T180000
DTSTAMP:20260424T154135
CREATED:20241009T151219Z
LAST-MODIFIED:20241009T151219Z
UID:1273-1731074400-1731088800@residence-bellevue.fr
SUMMARY:Opération Pizza
DESCRIPTION:
URL:https://residence-bellevue.fr/event/operation-pizza/
END:VEVENT
BEGIN:VEVENT
DTSTART;TZID=Europe/Paris:20240924T150000
DTEND;TZID=Europe/Paris:20240924T163000
DTSTAMP:20260424T154135
CREATED:20240828T161914Z
LAST-MODIFIED:20240828T162145Z
UID:1201-1727190000-1727195400@residence-bellevue.fr
SUMMARY:Manifestation !
DESCRIPTION:Les Vieux méritent Mieux ! \nManifestation devant la résidence pour alerter les automobilistes sur l’urgence de la situation des EHPADs.
URL:https://residence-bellevue.fr/event/manifestation/
ATTACH;FMTTYPE=image/jpeg:https://residence-bellevue.fr/wp-content/uploads/2023/10/received_1488877098528201.jpeg
END:VEVENT
BEGIN:VEVENT
DTSTART;TZID=Europe/Paris:20240923T000000
DTEND;TZID=Europe/Paris:20240923T000000
DTSTAMP:20260424T154135
CREATED:20240923T114041Z
LAST-MODIFIED:20240923T114041Z
UID:1216-1727049600-1727049600@residence-bellevue.fr
SUMMARY:Braderie
DESCRIPTION:
URL:https://residence-bellevue.fr/event/braderie-2/
ATTACH;FMTTYPE=image/png:https://residence-bellevue.fr/wp-content/uploads/2024/09/Affiche-braderie.png
END:VEVENT
BEGIN:VEVENT
DTSTART;TZID=Europe/Paris:20240918T120000
DTEND;TZID=Europe/Paris:20240918T170000
DTSTAMP:20260424T154135
CREATED:20240622T075603Z
LAST-MODIFIED:20240708T150416Z
UID:1015-1726660800-1726678800@residence-bellevue.fr
SUMMARY:Repas des familles
DESCRIPTION:menu espagne residence bellevue
URL:https://residence-bellevue.fr/event/repas-des-familles/
ATTACH;FMTTYPE=image/png:https://residence-bellevue.fr/wp-content/uploads/2024/06/Capture-decran-2024-06-22-a-09.54.24.png
END:VEVENT
BEGIN:VEVENT
DTSTART;TZID=Europe/Paris:20240705T193000
DTEND;TZID=Europe/Paris:20240705T220000
DTSTAMP:20260424T154135
CREATED:20240622T075841Z
LAST-MODIFIED:20240622T075841Z
UID:1018-1720207800-1720216800@residence-bellevue.fr
SUMMARY:Exercice incendie
DESCRIPTION:
URL:https://residence-bellevue.fr/event/exercice-incendie/
ATTACH;FMTTYPE=image/png:https://residence-bellevue.fr/wp-content/uploads/2024/06/Capture-decran-2024-06-22-a-09.55.51.png
END:VEVENT
BEGIN:VEVENT
DTSTART;TZID=Europe/Paris:20240626T161500
DTEND;TZID=Europe/Paris:20240626T171500
DTSTAMP:20260424T154135
CREATED:20240622T073554Z
LAST-MODIFIED:20240622T074923Z
UID:1008-1719418500-1719422100@residence-bellevue.fr
SUMMARY:CVS exceptionnel
DESCRIPTION:
URL:https://residence-bellevue.fr/event/evaluation-externe/
ATTACH;FMTTYPE=image/png:https://residence-bellevue.fr/wp-content/uploads/2024/06/Capture-decran-2024-06-22-a-09.34.15.png
END:VEVENT
BEGIN:VEVENT
DTSTART;TZID=Europe/Paris:20240626T080000
DTEND;TZID=Europe/Paris:20240627T170000
DTSTAMP:20260424T154135
CREATED:20240326T114045Z
LAST-MODIFIED:20240326T121257Z
UID:841-1719388800-1719507600@residence-bellevue.fr
SUMMARY:Evaluation Externe (référentiel HAS)
DESCRIPTION:dans le cadre de l’évaluation externe réalisée tous les 5 ans\, le cabinet AD-VENIR viendra nous auditionner les 26 et 27 juin prochain. Il y aura deux intervenants : J-Yves ROBIN  (Coordonnateur de visite) et Odette CLEDOU (Intervenante). \nLe référentiel de la HAS s’appuie sur un manuel qui définit trois méthodes pour évaluer les pratiques et les organisations\, au plus proche du terrain. Elles se traduisent par des entretiens avec les personnes accompagnées\, les membres du conseil de la vie sociale\, les professionnels et la gouvernance des ESSMS : \n1- La Personne accompagnée.\nDes entretiens menés auprès de plusieurs personnes accompagnées par l’ESSMS visent à appréhender leur perception de la bientraitance\, le respect de leurs droits\, les actions permettant de faciliter leur expression et leur participation\, leur implication dans la co-construction et la personnalisation de leur projet d’accompagnement\, l’adaptation de leur accompagnement à l’autonomie et à la santé\, et la continuité et la fluidité de leur parcours. \n2- Les Professionnels.\nL’évaluation vise à apprécier la capacité des professionnels à avoir un questionnement éthique\, à garantir l’effectivité des droits des personnes accompagnées\, à favoriser l’expression et la participation de la personne\, à co-construire et personnaliser son projet d’accompagnement\, à adapter l’accompagnement à l’autonomie et à la santé\, et à assurer la continuité et la fluidité des parcours. \n3- L’Etablissement.\nL’évaluation vise à apprécier la capacité de l’ESSMS à impulser la bientraitance et l’éthique\, à garantir les droits des personnes accompagnées\, à favoriser leur expression et leur participation\, à organiser la co-construction et la personnalisation des projets d’accompagnement\, à proposer une stratégie d’accompagnement à l’autonomie et à la santé\, à construire une politique de ressources humaines et une démarche qualité et de gestion des risques au bénéfice des accompagnements. \nCes entretiens seront articulés autour de 9 thématiques :\n1- la bientraitance et l’éthique\n2- les droits de la personne accompagnée\n3- l’expression et la participation de la personne accompagnée\n4- la co-construction et la personnalisation du projet d’accompagnement\n5- l’accompagnement à l’autonomie\n6- l’accompagnement à la santé\n7- la continuité et la fluidité des parcours\n8- la politique des ressources humaines\n9- la démarche qualité et gestion des risques
URL:https://residence-bellevue.fr/event/evaluation-externe-referentiel-has/
ATTACH;FMTTYPE=image/png:https://residence-bellevue.fr/wp-content/uploads/2024/03/Capture-decran-2024-03-26-123959.png
END:VEVENT
BEGIN:VEVENT
DTSTART;TZID=Europe/Paris:20240411T150000
DTEND;TZID=Europe/Paris:20240411T170000
DTSTAMP:20260424T154135
CREATED:20240326T112749Z
LAST-MODIFIED:20240326T112749Z
UID:839-1712847600-1712854800@residence-bellevue.fr
SUMMARY:CVS
DESCRIPTION:
URL:https://residence-bellevue.fr/event/cvs/
ATTACH;FMTTYPE=image/png:https://residence-bellevue.fr/wp-content/uploads/2023/10/cvs.png
END:VEVENT
BEGIN:VEVENT
DTSTART;TZID=Europe/Paris:20240404T150000
DTEND;TZID=Europe/Paris:20240404T170000
DTSTAMP:20260424T154135
CREATED:20240326T112541Z
LAST-MODIFIED:20240326T112541Z
UID:837-1712242800-1712250000@residence-bellevue.fr
SUMMARY:Commission menus
DESCRIPTION:
URL:https://residence-bellevue.fr/event/commission-menus-2/
ATTACH;FMTTYPE=image/jpeg:https://residence-bellevue.fr/wp-content/uploads/2024/02/French-Mulled-Wine-Vin-Chaud-and-Raclette.jpg
END:VEVENT
BEGIN:VEVENT
DTSTART;TZID=Europe/Paris:20240222T150000
DTEND;TZID=Europe/Paris:20240222T170000
DTSTAMP:20260424T154135
CREATED:20240206T183845Z
LAST-MODIFIED:20240206T183845Z
UID:689-1708614000-1708621200@residence-bellevue.fr
SUMMARY:Assemblée Générale de l'Amicale des Pensionnaires
DESCRIPTION:Vous êtes conviés à l’Assemblée Générale de l’Amicale des Pensionnaires ! Elle aura lieu le 22 février 2024 à 15h\, dans la salle de restauration de la résidence. \nCette assemblée générale aura pour but d’élire le conseil\, de réaliser le bilan financier de 2023 et de parler des projets de l’association. \nVenez nombreux !
URL:https://residence-bellevue.fr/event/assemblee-generale-de-lamicale-des-pensionnaires/
LOCATION:Résidence Bellevue\, Hermenault\, 85570
END:VEVENT
BEGIN:VEVENT
DTSTART;TZID=Europe/Paris:20240127T150000
DTEND;TZID=Europe/Paris:20240127T170000
DTSTAMP:20260424T154135
CREATED:20231221T091422Z
LAST-MODIFIED:20231221T091422Z
UID:539-1706367600-1706374800@residence-bellevue.fr
SUMMARY:Réunion des familles (WE)
DESCRIPTION:
URL:https://residence-bellevue.fr/event/reunion-des-familles-we/
ATTACH;FMTTYPE=image/png:https://residence-bellevue.fr/wp-content/uploads/2023/10/cvs.png
END:VEVENT
BEGIN:VEVENT
DTSTART;TZID=Europe/Paris:20240125T150000
DTEND;TZID=Europe/Paris:20240125T170000
DTSTAMP:20260424T154135
CREATED:20231221T091339Z
LAST-MODIFIED:20231221T091339Z
UID:537-1706194800-1706202000@residence-bellevue.fr
SUMMARY:Réunion des familles (semaine)
DESCRIPTION:
URL:https://residence-bellevue.fr/event/reunion-des-familles-semaine/
ATTACH;FMTTYPE=image/png:https://residence-bellevue.fr/wp-content/uploads/2023/10/cvs.png
END:VEVENT
BEGIN:VEVENT
DTSTART;TZID=Europe/Paris:20240115T150000
DTEND;TZID=Europe/Paris:20240115T170000
DTSTAMP:20260424T154135
CREATED:20231221T091516Z
LAST-MODIFIED:20231221T091516Z
UID:541-1705330800-1705338000@residence-bellevue.fr
SUMMARY:Conseil de la Vie Sociale
DESCRIPTION:
URL:https://residence-bellevue.fr/event/conseil-de-la-vie-sociale/
ATTACH;FMTTYPE=image/png:https://residence-bellevue.fr/wp-content/uploads/2023/10/cvs.png
END:VEVENT
BEGIN:VEVENT
DTSTART;TZID=Europe/Paris:20231213T110000
DTEND;TZID=Europe/Paris:20231213T163000
DTSTAMP:20260424T154135
CREATED:20231110T145955Z
LAST-MODIFIED:20231110T145955Z
UID:428-1702465200-1702485000@residence-bellevue.fr
SUMMARY:Repas de Noël de la résidence
DESCRIPTION:Le repas de Noël de la résidence aura lieu le Mercredi 13 décembre. Le repas sera animé par les Jack-potes un orchestre avec piano\, accordéon\, guitare et chant. Le personnel accompagnera les résidents pour ce temps festif.
URL:https://residence-bellevue.fr/event/repas-de-noel-de-la-residence/
LOCATION:Résidence Bellevue\, Hermenault\, 85570
END:VEVENT
BEGIN:VEVENT
DTSTART;TZID=Europe/Paris:20231019T100000
DTEND;TZID=Europe/Paris:20231019T173000
DTSTAMP:20260424T154135
CREATED:20231011T153847Z
LAST-MODIFIED:20231011T153847Z
UID:352-1697709600-1697736600@residence-bellevue.fr
SUMMARY:Braderie
DESCRIPTION:Jeudi 19 Octobre de 10h à 17h30\, nous organisons une braderie de vêtements Automne/Hiver. Vous pourrez trouver des vêtements masculins\, féminins\, des sous vêtements\, des chaussures\, … Les articles sont tous à 1 €\, les bénéfices sont au profit de l’ Amicale des pensionnaires de l’EHPAD Bellevue. Venez nombreux\, Tout doit disparaître !
URL:https://residence-bellevue.fr/event/braderie/
LOCATION:Résidence Bellevue\, Hermenault\, 85570
END:VEVENT
BEGIN:VEVENT
DTSTART;VALUE=DATE:20231013
DTEND;VALUE=DATE:20231014
DTSTAMP:20260424T154135
CREATED:20231002T070214Z
LAST-MODIFIED:20231002T070214Z
UID:307-1697155200-1697241599@residence-bellevue.fr
SUMMARY:Grève des médecins généralistes
DESCRIPTION:Les six syndicats représentatifs des médecins libéraux accompagnés par le collectif Médecins pour demain et le syndicat Reagjir appellent à la grève à compter du 13 octobre. Ils demandent le retrait de la proposition de loi sur l’accès aux soins.
URL:https://residence-bellevue.fr/event/greve-des-medecins-generalistes/
ATTACH;FMTTYPE=image/jpeg:https://residence-bellevue.fr/wp-content/uploads/2023/10/greve.jpg
END:VEVENT
BEGIN:VEVENT
DTSTART;TZID=Europe/Paris:20231010T150000
DTEND;TZID=Europe/Paris:20231010T170000
DTSTAMP:20260424T154135
CREATED:20230911T163700Z
LAST-MODIFIED:20230911T163700Z
UID:249-1696950000-1696957200@residence-bellevue.fr
SUMMARY:Commission menus
DESCRIPTION:
URL:https://residence-bellevue.fr/event/commission-menus/
LOCATION:Résidence Bellevue\, Hermenault\, 85570
ATTACH;FMTTYPE=image/png:https://residence-bellevue.fr/wp-content/uploads/2023/07/Capture-decran-2023-07-09-a-11.07.20.png
END:VEVENT
BEGIN:VEVENT
DTSTART;TZID=Europe/Paris:20231009T150000
DTEND;TZID=Europe/Paris:20231009T170000
DTSTAMP:20260424T154135
CREATED:20230911T165211Z
LAST-MODIFIED:20230911T165211Z
UID:255-1696863600-1696870800@residence-bellevue.fr
SUMMARY:Réunion du CVS
DESCRIPTION:
URL:https://residence-bellevue.fr/event/reunion-du-cvs/
LOCATION:Résidence Bellevue\, Hermenault\, 85570
ATTACH;FMTTYPE=image/jpeg:https://residence-bellevue.fr/wp-content/uploads/2023/07/logo-1-1.jpg
END:VEVENT
BEGIN:VEVENT
DTSTART;TZID=Europe/Paris:20231004T150000
DTEND;TZID=Europe/Paris:20231004T160000
DTSTAMP:20260424T154135
CREATED:20230918T110608Z
LAST-MODIFIED:20230918T110805Z
UID:262-1696431600-1696435200@residence-bellevue.fr
SUMMARY:" Les Vieux méritent Mieux "
DESCRIPTION:Journée de mobilisation nationale organisée par la FNADEPA pour demander au gouvernement une prise en compte immédiate des problématiques des EHPAD.
URL:https://residence-bellevue.fr/event/les-vieux-meritent-mieux/
ATTACH;FMTTYPE=image/png:https://residence-bellevue.fr/wp-content/uploads/2023/09/Capture-decran-2023-09-18-130111.png
END:VEVENT
BEGIN:VEVENT
DTSTART;TZID=Europe/Paris:20230926T080000
DTEND;TZID=Europe/Paris:20231005T100000
DTSTAMP:20260424T154135
CREATED:20230927T153721Z
LAST-MODIFIED:20230927T153721Z
UID:300-1695715200-1696500000@residence-bellevue.fr
SUMMARY:FLASH COVID - GRIPPE & VACCINATION
DESCRIPTION:Devant une recrudescence des cas de COVID\, l’ARS avance la campagne de vaccination à début octobre pour la COVID et au 17 octobre pour la Grippe. Pour rappel\, à ce jour\, il s’agit d’une vaccination unique en début d’hiver. \nA l’EPHAD\, pour les résidents\, une journée vaccination COVID sera organisée la semaine du 16 au 20 octobre et une journée vaccination Grippe la semaine du 6 au 10 novembre 2023. \nCes 2 vaccins sont recommandés en EHPAD par la HAS pour les résidents\, les professionnels et les visiteurs. \nNous demandons l’avis aux résidents eux-mêmes sur le choix ou non de ces vaccinations. L’avis de la famille ou de la personne de confiance intervient dans le cas ou la personne n’est pas en capacité de nous donner son avis éclairé ; En cas de refus\, merci de contacter l’infirmière pour le signifier. \nL’inscription pour le vaccin COVID est à faire avant le 5 octobre (date de commande des doses de vaccin) \nPour la Grippe\, nous vous rappelons l’importance de nous donner « le bon grippe » que vous recevez chaque année de la CPAM ou de la MSA afin que nous puissions commander les vaccins. \nIl est rappelé à tous les visiteurs de mettre un masque en cas de rhume\, maux de gorge\, fièvre\, céphalées. En cas de COVID ou GRIPPE avérés dans l’établissement\, le masque deviendra obligatoire pour les visiteurs et pour le personnel le temps de l’épidémie. \nMerci
URL:https://residence-bellevue.fr/event/flash-covid-grippe-vaccination/
LOCATION:Résidence Bellevue\, Hermenault\, 85570
END:VEVENT
BEGIN:VEVENT
DTSTART;TZID=Europe/Paris:20230916T150000
DTEND;TZID=Europe/Paris:20230916T180000
DTSTAMP:20260424T154135
CREATED:20230708T071221Z
LAST-MODIFIED:20230708T071221Z
UID:78-1694876400-1694887200@residence-bellevue.fr
SUMMARY:Réunion de rentrée.
DESCRIPTION:Réunion de rencontre avec les familles. \nActualités de la résidence.\nPrésentation des animations 2023/2024.\nQuestions / Réponses.
URL:https://residence-bellevue.fr/event/reunion-de-rentree/
LOCATION:Résidence Bellevue\, Hermenault\, 85570
ATTACH;FMTTYPE=image/jpeg:https://residence-bellevue.fr/wp-content/uploads/2023/07/MG12641-1024x682-1.jpg
END:VEVENT
BEGIN:VEVENT
DTSTART;TZID=Europe/Paris:20230912T203000
DTEND;TZID=Europe/Paris:20230912T223000
DTSTAMP:20260424T154135
CREATED:20230911T164141Z
LAST-MODIFIED:20230911T164141Z
UID:251-1694550600-1694557800@residence-bellevue.fr
SUMMARY:Conseil d'administration du CCAS
DESCRIPTION:
URL:https://residence-bellevue.fr/event/conseil-dadministration-du-ccas/
LOCATION:Mairie de l’Hermenault\, 13 rue de la Gazellerie\, l'Hermenault\, France
ATTACH;FMTTYPE=image/png:https://residence-bellevue.fr/wp-content/uploads/2023/07/Capture-decran-2023-07-15-a-07.21.16-1.png
END:VEVENT
END:VCALENDAR